BEGIN:VCALENDAR
VERSION:2.0
PRODID:-//Attleboro Historic Preservation Society - ECPv6.15.20//NONSGML v1.0//EN
CALSCALE:GREGORIAN
METHOD:PUBLISH
X-ORIGINAL-URL:https://www.attleboro.org
X-WR-CALDESC:Events for Attleboro Historic Preservation Society
REFRESH-INTERVAL;VALUE=DURATION:PT1H
X-Robots-Tag:noindex
X-PUBLISHED-TTL:PT1H
BEGIN:VTIMEZONE
TZID:America/New_York
BEGIN:DAYLIGHT
TZOFFSETFROM:-0500
TZOFFSETTO:-0400
TZNAME:EDT
DTSTART:20250309T070000
END:DAYLIGHT
BEGIN:STANDARD
TZOFFSETFROM:-0400
TZOFFSETTO:-0500
TZNAME:EST
DTSTART:20251102T060000
END:STANDARD
BEGIN:DAYLIGHT
TZOFFSETFROM:-0500
TZOFFSETTO:-0400
TZNAME:EDT
DTSTART:20260308T070000
END:DAYLIGHT
BEGIN:STANDARD
TZOFFSETFROM:-0400
TZOFFSETTO:-0500
TZNAME:EST
DTSTART:20261101T060000
END:STANDARD
BEGIN:DAYLIGHT
TZOFFSETFROM:-0500
TZOFFSETTO:-0400
TZNAME:EDT
DTSTART:20270314T070000
END:DAYLIGHT
BEGIN:STANDARD
TZOFFSETFROM:-0400
TZOFFSETTO:-0500
TZNAME:EST
DTSTART:20271107T060000
END:STANDARD
END:VTIMEZONE
BEGIN:VEVENT
DTSTART;TZID=America/New_York:20260712T140000
DTEND;TZID=America/New_York:20260712T150000
DTSTAMP:20260423T135544
CREATED:20260403T214540Z
LAST-MODIFIED:20260403T215646Z
UID:12612-1783864800-1783868400@www.attleboro.org
SUMMARY:Revolutionary Attleboro
DESCRIPTION:Discover Attleboro’s role in the American Revolution with the Attleboro Historic Preservation Society. Join local historian Paolo DiGregorio for an engaging program exploring the people\, places\, and events that shaped the town during this pivotal time in history. \nThe program will begin at Oldtown Church\, followed by a guided walk to the nearby Powder House—an important Revolutionary-era site that offers a tangible connection to Attleboro’s past. Through storytelling and historical insight\, this event brings the Revolutionary period to life right here in our community.
URL:https://www.attleboro.org/event/revolutionary-attleboro/
LOCATION:Oldtown Church\, 675 Old Post Road\, North Attleboro\, MA\, United States
CATEGORIES:History,Tour
ATTACH;FMTTYPE=image/jpeg:https://www.attleboro.org/wp-content/uploads/2026/04/colonial-attleboro-July-12.jpg
END:VEVENT
END:VCALENDAR