BEGIN:VCALENDAR
VERSION:2.0
PRODID:-//Attleboro Historic Preservation Society - ECPv6.15.20//NONSGML v1.0//EN
CALSCALE:GREGORIAN
METHOD:PUBLISH
X-WR-CALNAME:Attleboro Historic Preservation Society
X-ORIGINAL-URL:https://www.attleboro.org
X-WR-CALDESC:Events for Attleboro Historic Preservation Society
REFRESH-INTERVAL;VALUE=DURATION:PT1H
X-Robots-Tag:noindex
X-PUBLISHED-TTL:PT1H
BEGIN:VTIMEZONE
TZID:America/New_York
BEGIN:DAYLIGHT
TZOFFSETFROM:-0500
TZOFFSETTO:-0400
TZNAME:EDT
DTSTART:20250309T070000
END:DAYLIGHT
BEGIN:STANDARD
TZOFFSETFROM:-0400
TZOFFSETTO:-0500
TZNAME:EST
DTSTART:20251102T060000
END:STANDARD
BEGIN:DAYLIGHT
TZOFFSETFROM:-0500
TZOFFSETTO:-0400
TZNAME:EDT
DTSTART:20260308T070000
END:DAYLIGHT
BEGIN:STANDARD
TZOFFSETFROM:-0400
TZOFFSETTO:-0500
TZNAME:EST
DTSTART:20261101T060000
END:STANDARD
BEGIN:DAYLIGHT
TZOFFSETFROM:-0500
TZOFFSETTO:-0400
TZNAME:EDT
DTSTART:20270314T070000
END:DAYLIGHT
BEGIN:STANDARD
TZOFFSETFROM:-0400
TZOFFSETTO:-0500
TZNAME:EST
DTSTART:20271107T060000
END:STANDARD
END:VTIMEZONE
BEGIN:VEVENT
DTSTART;TZID=America/New_York:20260516T093000
DTEND;TZID=America/New_York:20260516T223000
DTSTAMP:20260423T155216
CREATED:20260403T213452Z
LAST-MODIFIED:20260403T215617Z
UID:12604-1778923800-1778970600@www.attleboro.org
SUMMARY:Historic (South) Attleboro Village
DESCRIPTION:Join the Attleboro Historic Preservation Society for a guided walking tour of historic South Attleboro Village\, led by local historian Jerry Turcotte. \nThis 3-mile\, easy-paced walk will take participants along paved sidewalks and roads\, exploring the people\, places\, and stories that shaped this unique part of Attleboro. Along the way\, attendees will gain insight into the village’s development and its role within the broader history of the city. \nWhether you’re a history enthusiast or simply enjoy a good walk with purpose\, this tour offers a great opportunity to experience local history firsthand.
URL:https://www.attleboro.org/event/historic-south-attleboro-village/
LOCATION:Park and meet at the school\, 80 Roy Avenue\, Attleboro\, MA\, 02703\, United States
CATEGORIES:History,Tour
ATTACH;FMTTYPE=image/jpeg:https://www.attleboro.org/wp-content/uploads/2026/04/south-attleboro-vlllage-tour.jpg
END:VEVENT
BEGIN:VEVENT
DTSTART;TZID=America/New_York:20260416T183000
DTEND;TZID=America/New_York:20260416T193000
DTSTAMP:20260423T155216
CREATED:20260403T212535Z
LAST-MODIFIED:20260403T215321Z
UID:12601-1776364200-1776367800@www.attleboro.org
SUMMARY:Witness Houses: Attleboro Homes of Colonial America
DESCRIPTION:Step inside the homes that witnessed the birth of a nation. Join the Attleboro Historic Preservation Society for an engaging presentation by Rachel Killion\, exploring the historic homes of Attleboro that date back to the Colonial era. \nThese “witness houses” have stood through generations of change\, offering a unique window into daily life in early America. Through architecture\, preservation\, and local stories\, this program will highlight how these homes connect Attleboro to the broader history of the colonial period and the founding of the United States. \nWhether you are passionate about local history\, architecture\, or preservation\, this presentation offers a fascinating look at the structures that have quietly shaped our community for centuries.
URL:https://www.attleboro.org/event/witness-houses-attleboro-homes-of-colonial-america/
LOCATION:Attleboro Area Industrial Museum (AAIM)\, 42 Union Street\, Attleboro\, 02703\, United States
CATEGORIES:Education,History
ATTACH;FMTTYPE=image/jpeg:https://www.attleboro.org/wp-content/uploads/2026/04/witness-houses-main-image.jpg
END:VEVENT
END:VCALENDAR