BEGIN:VCALENDAR
VERSION:2.0
PRODID:-//Attleboro Historic Preservation Society - ECPv6.15.20//NONSGML v1.0//EN
CALSCALE:GREGORIAN
METHOD:PUBLISH
X-WR-CALNAME:Attleboro Historic Preservation Society
X-ORIGINAL-URL:https://www.attleboro.org
X-WR-CALDESC:Events for Attleboro Historic Preservation Society
REFRESH-INTERVAL;VALUE=DURATION:PT1H
X-Robots-Tag:noindex
X-PUBLISHED-TTL:PT1H
BEGIN:VTIMEZONE
TZID:America/New_York
BEGIN:DAYLIGHT
TZOFFSETFROM:-0500
TZOFFSETTO:-0400
TZNAME:EDT
DTSTART:20250309T070000
END:DAYLIGHT
BEGIN:STANDARD
TZOFFSETFROM:-0400
TZOFFSETTO:-0500
TZNAME:EST
DTSTART:20251102T060000
END:STANDARD
BEGIN:DAYLIGHT
TZOFFSETFROM:-0500
TZOFFSETTO:-0400
TZNAME:EDT
DTSTART:20260308T070000
END:DAYLIGHT
BEGIN:STANDARD
TZOFFSETFROM:-0400
TZOFFSETTO:-0500
TZNAME:EST
DTSTART:20261101T060000
END:STANDARD
BEGIN:DAYLIGHT
TZOFFSETFROM:-0500
TZOFFSETTO:-0400
TZNAME:EDT
DTSTART:20270314T070000
END:DAYLIGHT
BEGIN:STANDARD
TZOFFSETFROM:-0400
TZOFFSETTO:-0500
TZNAME:EST
DTSTART:20271107T060000
END:STANDARD
END:VTIMEZONE
BEGIN:VEVENT
DTSTART;TZID=America/New_York:20260618T180000
DTEND;TZID=America/New_York:20260618T190000
DTSTAMP:20260420T031447
CREATED:20260403T214010Z
LAST-MODIFIED:20260403T215626Z
UID:12607-1781805600-1781809200@www.attleboro.org
SUMMARY:Sacred Spaces
DESCRIPTION:Explore one of Attleboro’s most historic and meaningful sites with the Attleboro Historic Preservation Society. Join Fred Saunders for a guided tour of the Second Congregational Church and its surrounding kirkyard. \nThis special program will highlight the history\, architecture\, and significance of the church as a “sacred space” within the community. Attendees will also have the opportunity to walk the kirkyard\, where generations of local history are preserved through gravestones and stories that connect past and present. \nWhether you are interested in local history\, architecture\, or genealogy\, this tour offers a unique and reflective look into one of Attleboro’s enduring landmarks.
URL:https://www.attleboro.org/event/sacred-spaces/
LOCATION:50 Park Street\, Attleboro\, MA\, 50 Park Street\, Attleboro\, MA\, 02703\, United States
CATEGORIES:Education,History
ATTACH;FMTTYPE=image/jpeg:https://www.attleboro.org/wp-content/uploads/2026/04/sacred-spaces-june-18.jpg
END:VEVENT
END:VCALENDAR